BEGIN:VCALENDAR
VERSION:2.0
PRODID:-//ChamberMaster//Event Calendar 2.0//EN
METHOD:PUBLISH
X-PUBLISHED-TTL:P3D
REFRESH-INTERVAL:P3D
CALSCALE:GREGORIAN
BEGIN:VEVENT
DTSTART:20200904T213000Z
DTEND:20200905T000000Z
X-MICROSOFT-CDO-ALLDAYEVENT:FALSE
SUMMARY:First Fridays: Teen Tie Dye
DESCRIPTION:@ the Wildwood Shelter House Register for a half-hour session and meet us at the shelter house at Wildwood Park. We'll supply a t-shirt and mask to tie-dye. Register by Sept. 1 to ensure you reserve a t-shirt of your size. Only 4 teens can participate at a time and wearing a mask is mandatory to participate. In an effort to keep this a safe socially distance event\, please have your teen picked up and dropped off in a timely manner. Please no hanging out before or after the registered time spot at the shelter house. For teens entering grades 7-12. Register at GranvilleLibrary.org/calendar/month
X-ALT-DESC;FMTTYPE=text/html:@ the Wildwood Shelter House Register for a half-hour session and meet us at the shelter house at Wildwood Park. We&#39\;ll supply a t-shirt and mask to tie-dye. Register by Sept. 1 to ensure you reserve a t-shirt of your size. Only 4 teens can participate at a time and wearing a mask is mandatory to participate. In an effort to keep this a safe socially distance event\, please have your teen picked up and dropped off in a timely manner. Please no hanging out before or after the registered time spot at the shelter house. For teens entering grades 7-12. Register at GranvilleLibrary.org/calendar/month
LOCATION:Wildwood Park Shelterhouse
UID:e.180.14577
SEQUENCE:3
DTSTAMP:20260422T072511Z
URL:https://business.granvilleoh.com/events/details/first-fridays-teen-tie-dye-14577
END:VEVENT

END:VCALENDAR
