BEGIN:VCALENDAR
VERSION:2.0
PRODID:-//ChamberMaster//Event Calendar 2.0//EN
METHOD:PUBLISH
X-PUBLISHED-TTL:P3D
REFRESH-INTERVAL:P3D
CALSCALE:GREGORIAN
BEGIN:VEVENT
DTSTART:20200305T140000Z
DTEND:20200306T020000Z
X-MICROSOFT-CDO-ALLDAYEVENT:FALSE
SUMMARY:FOUND FREQUENCIES : Art in Eisner
DESCRIPTION:Fostering the TUTTI spirit of collaboration across disciplines\, throughout the walls of the Eisner Center are works of art inspired by the compositions of this year's TUTTI composers.\n\nNine Studio Art Seniors and four printmaking students working with Studio Art Professor Ron Abram have taken a piece of original music from a TUTTI composer and reflected on it through their own artwork.\n\nThe Seniors in Studio Art have taken the project one step forward with the experience of a workshop with Vail Visiting Artist Elizabeth Leister. A return to campus\, Leister was also a 2016 TUTTI visiting artist. While the printmaking students have created large scale etchings\, the seniors have created paintings that incorporate video and music through the use of Artivive\, a state of the art augmented reality tool for artists. \n\nIndependent Printmakers Lilia Chesser '20\, Dana Phillips '20\, Henry Selden '22\, Rachel Weavers\, '20. Senior Studio Art Practicum Fyodor Badkhen '20\, Hannah Gohl '20 Ciara Harriague '20\, Delaney McRitchie '20\, Brendan Murphy '20\, Anna Newman '20\, Rebecca Wetklow '20\, Zoe Whelan '20 and Zixuan Yang '20.\n\nExhibition on display from Tuesday\, March 3 - Saturday\, March 7
X-ALT-DESC;FMTTYPE=text/html:<div>\n<div>\n<div>\n<div>\n<div>\n<p>Fostering the TUTTI spirit of collaboration across disciplines\, throughout the walls of the Eisner Center are works of art inspired by the compositions of this year&rsquo\;s TUTTI composers.</p>\n\n<p>Nine&nbsp\;Studio Art Seniors and four printmaking students working with Studio Art Professor Ron Abram have taken a piece of original music from a TUTTI composer and reflected on it through their own artwork.</p>\n\n<p>The Seniors in Studio Art have taken the project one step forward with the experience of a workshop with Vail Visiting Artist Elizabeth Leister. A return to campus\, Leister was also a 2016 TUTTI&nbsp\;visiting artist. While the printmaking students have created large scale etchings\, the seniors have created paintings that incorporate video and music through the use of Artivive\, a state of the art augmented reality tool for artists.&nbsp\;</p>\n\n<p>Independent Printmakers Lilia Chesser&nbsp\;&rsquo\;20\, Dana Phillips&nbsp\;&rsquo\;20\, Henry Selden&nbsp\;&rsquo\;22\, Rachel Weavers\,&nbsp\;&rsquo\;20. Senior Studio Art Practicum Fyodor Badkhen&nbsp\;&rsquo\;20\, Hannah Gohl&nbsp\;&rsquo\;20&nbsp\;Ciara Harriague&nbsp\;&rsquo\;20\, Delaney McRitchie&nbsp\;&rsquo\;20\, Brendan Murphy&nbsp\;&rsquo\;20\, Anna Newman&nbsp\;&rsquo\;20\, Rebecca Wetklow&nbsp\;&rsquo\;20\, Zoe Whelan&nbsp\;&rsquo\;20&nbsp\;and Zixuan Yang&nbsp\;&rsquo\;20.</p>\n\n<p>Exhibition on display from Tuesday\, March 3&nbsp\;- Saturday\, March 7</p>\n</div>\n</div>\n</div>\n</div>\n</div>\n\n<div>\n<div style="margin-right:5.5px">&nbsp\;</div>\n</div>\n
LOCATION:Denison University Michael D. Eisner Center for the Performing Arts 240 West Broadway
UID:e.180.14378
SEQUENCE:3
DTSTAMP:20260422T141928Z
URL:https://business.granvilleoh.com/events/details/found-frequencies-art-in-eisner-03-05-2020-14378
END:VEVENT

END:VCALENDAR
