BEGIN:VCALENDAR
VERSION:2.0
PRODID:-//ChamberMaster//Event Calendar 2.0//EN
METHOD:PUBLISH
X-PUBLISHED-TTL:P3D
REFRESH-INTERVAL:P3D
CALSCALE:GREGORIAN
BEGIN:VEVENT
DTSTART:20201003T233000Z
DTEND:20201004T003000Z
X-MICROSOFT-CDO-ALLDAYEVENT:FALSE
SUMMARY:Full Story Film Fest
DESCRIPTION:Narrative Journalism at Denison University welcomes you to join us for our Full Story Film Fest. Watch 8 student-directed nonfiction short films with judging and prizes awarded by our documentarian-in-residence Luke Lorentzen.\n\nLorentzen's work as a director and cinematographer includes one of Netflix's most watched original series\, "Last Chance U"\, which has been nominated for an Emmy and Critics Choice Award as well as the documentary film "Midnight Family" which was shortlisted for the 2020 Best Documentary Oscar.\n\nPlease complete & submit the form at bit.ly/filmfest-registerhere to receive the event's virtual log-in information.
X-ALT-DESC;FMTTYPE=text/html:<p>Narrative Journalism at Denison University welcomes you to join us for our Full Story Film Fest. Watch 8 student-directed nonfiction short films with judging and prizes awarded by our documentarian-in-residence Luke Lorentzen.</p>\n\n<p>Lorentzen&rsquo\;s work as a director and cinematographer includes one of Netflix&rsquo\;s most watched original series\, &ldquo\;Last Chance U&rdquo\;\, which has been nominated for an Emmy and Critics Choice Award as well as the documentary film &ldquo\;Midnight Family&rdquo\; which was shortlisted for the 2020 Best Documentary Oscar.</p>\n\n<p>Please complete &amp\; submit the form at bit.ly/filmfest-registerhere to receive the event&rsquo\;s virtual log-in information.</p>\n
LOCATION:Virtual
UID:e.180.14622
SEQUENCE:3
DTSTAMP:20260422T045534Z
URL:https://business.granvilleoh.com/events/details/full-story-film-fest-14622
END:VEVENT

END:VCALENDAR
