BEGIN:VCALENDAR
VERSION:2.0
PRODID:-//ChamberMaster//Event Calendar 2.0//EN
METHOD:PUBLISH
X-PUBLISHED-TTL:P3D
REFRESH-INTERVAL:P3D
CALSCALE:GREGORIAN
BEGIN:VEVENT
DTSTART:20210714T153000Z
DTEND:20210714T170000Z
X-MICROSOFT-CDO-ALLDAYEVENT:FALSE
SUMMARY:GACC Member Meeting & Luncheon
DESCRIPTION:Join us at the DoubleTree by Hilton in downtown Newark for an in-person Member Meeting & Luncheon during which we will hear from Explore Licking County Executive Director Dan Moder who will share current travel and tourism insights and developments occurring throughout Licking County.  Jennifer McDonald\, President of the Licking County Chamber of Commerce\, will also join us and present latest news and details relating to the first annual Licking County Restaurant Week which kicks off on Friday\, July 16th.\n\n\n\nBecause we will be in downtown Newark\, and because of the shared interest in the topics to be presented\, we are inviting all members of the Licking County Chamber of Commerce to join us at this Granville Area Chamber of Commerce Luncheon.
X-ALT-DESC;FMTTYPE=text/html:Join us at the DoubleTree by Hilton in downtown Newark for an in-person Member Meeting &amp\; Luncheon during which we will hear from Explore Licking County Executive Director Dan Moder who will share current travel and tourism insights and developments occurring throughout Licking County.&nbsp\; Jennifer McDonald\, President of the Licking County Chamber of Commerce\, will also join us and present latest news and details relating to the first annual Licking County Restaurant Week which kicks off on Friday\, July 16<sup>th</sup>.<br />\n<br />\nBecause we will be in downtown Newark\, and because of the shared interest in the topics to be presented\, we are inviting all members of the Licking County Chamber of Commerce to join us at this Granville Area Chamber of Commerce Luncheon.
LOCATION:DoubleTree by Hilton Newark\, Ohio 50 North 2nd Street Newark\, OH 43055
UID:e.180.16022
SEQUENCE:3
DTSTAMP:20260421T174423Z
URL:https://business.granvilleoh.com/events/details/gacc-member-meeting-luncheon-16022
END:VEVENT

END:VCALENDAR
