BEGIN:VCALENDAR
VERSION:2.0
PRODID:-//ChamberMaster//Event Calendar 2.0//EN
METHOD:PUBLISH
X-PUBLISHED-TTL:P3D
REFRESH-INTERVAL:P3D
CALSCALE:GREGORIAN
BEGIN:VEVENT
DTSTART:20200624T170000Z
DTEND:20200624T174500Z
X-MICROSOFT-CDO-ALLDAYEVENT:FALSE
SUMMARY:Games with Clyde-the-Coyote
DESCRIPTION:Can you guess the object Clyde the Coyote is thinking of in 20 questions or less? Zoom Register to receive login the day of the program. Rising K to 6
X-ALT-DESC;FMTTYPE=text/html:Can you guess the object Clyde the Coyote is thinking of in 20 questions or less? Zoom&mdash\;Register to receive login the day of the program. Rising K to 6
LOCATION:Granville Public Library
UID:e.180.14539
SEQUENCE:3
DTSTAMP:20260422T102252Z
URL:https://business.granvilleoh.com/events/details/games-with-clyde-the-coyote-14539
END:VEVENT

END:VCALENDAR
