BEGIN:VCALENDAR
VERSION:2.0
PRODID:-//ChamberMaster//Event Calendar 2.0//EN
METHOD:PUBLISH
X-PUBLISHED-TTL:P3D
REFRESH-INTERVAL:P3D
CALSCALE:GREGORIAN
BEGIN:VEVENT
DTSTART:20200409T230000Z
DTEND:20200410T003000Z
X-MICROSOFT-CDO-ALLDAYEVENT:FALSE
SUMMARY:Garden Variety Metal Stamping
DESCRIPTION:"Plantus Unknownus" is no more with your own customized garden markers. Create stamped metal labels for your plants or punny sayings to add to your spring garden. Adults only. Register at granvillelibrary.org/calendar/month
X-ALT-DESC;FMTTYPE=text/html:&quot\;Plantus Unknownus&quot\; is no more with your own customized garden markers. Create stamped metal labels for your plants or punny sayings to add to your spring garden. Adults only. Register at granvillelibrary.org/calendar/month
LOCATION:Granville Public Library
UID:e.180.14399
SEQUENCE:3
DTSTAMP:20260422T130020Z
URL:https://business.granvilleoh.com/events/details/garden-variety-metal-stamping-14399
END:VEVENT

END:VCALENDAR
