BEGIN:VCALENDAR
VERSION:2.0
PRODID:-//ChamberMaster//Event Calendar 2.0//EN
METHOD:PUBLISH
X-PUBLISHED-TTL:P3D
REFRESH-INTERVAL:P3D
CALSCALE:GREGORIAN
BEGIN:VEVENT
DTSTART:20200201T190000Z
DTEND:20200201T203000Z
X-MICROSOFT-CDO-ALLDAYEVENT:FALSE
SUMMARY:Get Crafty: Hearts
DESCRIPTION:In this drop-in program\, make several heart-themed crafts. Designed for Grades 4 to 6. Grades K to 3 are welcome when accompanied by an adult helper.
X-ALT-DESC;FMTTYPE=text/html:In this drop-in program\, make several heart-themed crafts. Designed for Grades 4 to 6. Grades K to 3 are welcome when accompanied by an adult helper.
LOCATION:Granville Public Library
UID:e.180.14040
SEQUENCE:3
DTSTAMP:20260422T153948Z
URL:https://business.granvilleoh.com/events/details/get-crafty-hearts-14040
END:VEVENT

END:VCALENDAR
