BEGIN:VCALENDAR
VERSION:2.0
PRODID:-//ChamberMaster//Event Calendar 2.0//EN
METHOD:PUBLISH
X-PUBLISHED-TTL:P3D
REFRESH-INTERVAL:P3D
CALSCALE:GREGORIAN
BEGIN:VEVENT
DTSTART:20200104T190000Z
DTEND:20200104T203000Z
X-MICROSOFT-CDO-ALLDAYEVENT:FALSE
SUMMARY:Get Crafty: Snowflakes
DESCRIPTION:In this drop-in program\, make several snowflake-themed crafts. \n\nDesigned for Grades 4 to 6. \n\nGrades K to 3 are welcome when accompanied by an adult helper. \nEvent Typ
X-ALT-DESC;FMTTYPE=text/html:In this drop-in program\, make several snowflake-themed crafts. \n\nDesigned for Grades 4 to 6. \n\nGrades K to 3 are welcome when accompanied by an adult helper. \nEvent Typ
LOCATION:Granville Public Library
UID:e.180.14012
SEQUENCE:3
DTSTAMP:20260422T170907Z
URL:https://business.granvilleoh.com/events/details/get-crafty-snowflakes-14012
END:VEVENT

END:VCALENDAR
