BEGIN:VCALENDAR
VERSION:2.0
PRODID:-//ChamberMaster//Event Calendar 2.0//EN
METHOD:PUBLISH
X-PUBLISHED-TTL:P3D
REFRESH-INTERVAL:P3D
CALSCALE:GREGORIAN
BEGIN:VEVENT
DTSTART:20200328T180000Z
DTEND:20200328T193000Z
X-MICROSOFT-CDO-ALLDAYEVENT:FALSE
SUMMARY:Get Crafty: Sticks and Stones
DESCRIPTION:Create art with sticks\, rocks\, paint\, and yarn. Designed for Grades 4 to 6. Grades K to 3 are welcome when accompanied by an adult helper.
X-ALT-DESC;FMTTYPE=text/html:Create art with sticks\, rocks\, paint\, and yarn. Designed for Grades 4 to 6. Grades K to 3 are welcome when accompanied by an adult helper.
LOCATION:Granville Public Library
UID:e.180.14389
SEQUENCE:3
DTSTAMP:20260422T141749Z
URL:https://business.granvilleoh.com/events/details/get-crafty-sticks-and-stones-14389
END:VEVENT

END:VCALENDAR
