BEGIN:VCALENDAR
VERSION:2.0
PRODID:-//ChamberMaster//Event Calendar 2.0//EN
METHOD:PUBLISH
X-PUBLISHED-TTL:P3D
REFRESH-INTERVAL:P3D
CALSCALE:GREGORIAN
BEGIN:VEVENT
DTSTART:20200928T180000Z
DTEND:20200928T200000Z
X-MICROSOFT-CDO-ALLDAYEVENT:FALSE
SUMMARY:Ghost Story Writing with Thurber House
DESCRIPTION:Resurrect the dead.  Romance a ghoul\,  Create a zombie army\,  The Thurber House will go over the ins and outs of a good scary story\, and then turn students loose to write their own.  We focus on how to create a suspenseful page-turner and how it can be successful without always being gory.\n\nFor grades 7-12.   Register to receive the link to the zoom call about an hour before the program.
X-ALT-DESC;FMTTYPE=text/html:Resurrect the dead.  Romance a ghoul\,  Create a zombie army\,  The Thurber House will go over the ins and outs of a good scary story\, and then turn students loose to write their own.  We focus on how to create a suspenseful page-turner and how it can be successful without always being gory.\n\nFor grades 7-12.   Register to receive the link to the zoom call about an hour before the program.
LOCATION:Granville Public Library via Zoom
UID:e.180.14596
SEQUENCE:3
DTSTAMP:20260422T055542Z
URL:https://business.granvilleoh.com/events/details/ghost-story-writing-with-thurber-house-14596
END:VEVENT

END:VCALENDAR
