BEGIN:VCALENDAR
VERSION:2.0
PRODID:-//ChamberMaster//Event Calendar 2.0//EN
METHOD:PUBLISH
X-PUBLISHED-TTL:P3D
REFRESH-INTERVAL:P3D
CALSCALE:GREGORIAN
BEGIN:VEVENT
DTSTART:20211027T203000Z
DTEND:20211027T213000Z
X-MICROSOFT-CDO-ALLDAYEVENT:FALSE
SUMMARY:Ghost Writing Workshop with Thurber House on Zoom
DESCRIPTION:Learn how to create a suspenseful page-turner. Grades 4 to 6. The Zoom link will be emailed about an hour before the program. Register at GranvilleLibrary.org/calendar/month
X-ALT-DESC;FMTTYPE=text/html:Learn how to create a suspenseful page-turner. Grades 4 to 6. The Zoom link will be emailed about an hour before the program. Register at GranvilleLibrary.org/calendar/month
LOCATION:Granville Public Library via zoom
UID:e.180.16097
SEQUENCE:3
DTSTAMP:20260421T124736Z
URL:https://business.granvilleoh.com/events/details/ghost-writing-workshop-with-thurber-house-on-zoom-16097
END:VEVENT

END:VCALENDAR
