BEGIN:VCALENDAR
VERSION:2.0
PRODID:-//ChamberMaster//Event Calendar 2.0//EN
METHOD:PUBLISH
X-PUBLISHED-TTL:P3D
REFRESH-INTERVAL:P3D
CALSCALE:GREGORIAN
BEGIN:VEVENT
DTSTART:20200122T150000Z
DTEND:20200122T170000Z
X-MICROSOFT-CDO-ALLDAYEVENT:FALSE
SUMMARY:GMS Book Club
DESCRIPTION:GMS students\, join us during your lunch period for book club! For January\, 4th period is reading "Front Lines" by Michael Grant and 5th period is reading "Truly Devious: A Mystery" by Maureen Johnson. Mrs. Bice has copies of the books if you missed the last meeting.
X-ALT-DESC;FMTTYPE=text/html:GMS students\, join us during your lunch period for book club! For January\, 4th period is reading &quot\;Front Lines&quot\; by Michael Grant and 5th period is reading &quot\;Truly Devious: A Mystery&quot\; by Maureen Johnson. Mrs. Bice has copies of the books if you missed the last meeting.
LOCATION:Granville Middle School library
UID:e.180.14025
SEQUENCE:3
DTSTAMP:20260422T171110Z
URL:https://business.granvilleoh.com/events/details/gms-book-club-01-22-2020-14025
END:VEVENT

END:VCALENDAR
