BEGIN:VCALENDAR
VERSION:2.0
PRODID:-//ChamberMaster//Event Calendar 2.0//EN
METHOD:PUBLISH
X-PUBLISHED-TTL:P3D
REFRESH-INTERVAL:P3D
CALSCALE:GREGORIAN
BEGIN:VEVENT
DTSTART:20211001T143000Z
DTEND:20211001T151500Z
X-MICROSOFT-CDO-ALLDAYEVENT:FALSE
SUMMARY:GMS Book Club
DESCRIPTION:GMS students\, join Mrs. Bice\, Mrs. Tallentire\, and Wendy from GPL for a lunchtime book club. We provide the books. Seventh and eighth graders can join anytime! Register with Mrs. Bice. We meet in the GMS project center. In October we will discuss "Skyhunter" by Marie Lu. If you missed the September meeting\, see Mrs. Bice for a copy of the book\, Pick up one of November's books at the meeting.
X-ALT-DESC;FMTTYPE=text/html:GMS students\, join Mrs. Bice\, Mrs. Tallentire\, and Wendy from GPL for a lunchtime book club. We provide the books. Seventh and eighth graders can join anytime! Register with Mrs. Bice. We meet in the GMS project center. In October we will discuss &quot\;Skyhunter&quot\; by Marie Lu. If you missed the September meeting\, see Mrs. Bice for a copy of the book\, Pick up one of November&#39\;s books at the meeting.
LOCATION:Granville Public Library
UID:e.180.16064
SEQUENCE:3
DTSTAMP:20260421T125430Z
URL:https://business.granvilleoh.com/events/details/gms-book-club-10-01-2021-16064
END:VEVENT

END:VCALENDAR
