BEGIN:VCALENDAR
VERSION:2.0
PRODID:-//ChamberMaster//Event Calendar 2.0//EN
METHOD:PUBLISH
X-PUBLISHED-TTL:P3D
REFRESH-INTERVAL:P3D
CALSCALE:GREGORIAN
BEGIN:VEVENT
DTSTART:20211104T143000Z
DTEND:20211104T151000Z
X-MICROSOFT-CDO-ALLDAYEVENT:FALSE
SUMMARY:GMS Book Club: Ender's Game
DESCRIPTION:Join Mrs. Bice\, Mrs. Tallentire\, and Wendy from GPL to discuss Ender's Game by Orson Scott Card. If you missed the last meeting\, Mrs. Bice has extra copies you can borrow. We will meet in the GMS project center. We will pick December's book at the meeting. Copies of the book are provided at the meeting.
X-ALT-DESC;FMTTYPE=text/html:Join Mrs. Bice\, Mrs. Tallentire\, and Wendy from GPL to discuss Ender&#39\;s Game by Orson Scott Card. If you missed the last meeting\, Mrs. Bice has extra copies you can borrow. We will meet in the GMS project center. We will pick December&#39\;s book at the meeting. Copies of the book are provided at the meeting.
LOCATION:Granville Middle School
UID:e.180.16103
SEQUENCE:3
DTSTAMP:20260421T123930Z
URL:https://business.granvilleoh.com/events/details/gms-book-club-ender-s-game-16103
END:VEVENT

END:VCALENDAR
