BEGIN:VCALENDAR
VERSION:2.0
PRODID:-//ChamberMaster//Event Calendar 2.0//EN
METHOD:PUBLISH
X-PUBLISHED-TTL:P3D
REFRESH-INTERVAL:P3D
CALSCALE:GREGORIAN
BEGIN:VEVENT
DTSTART:20211203T153000Z
DTEND:20211203T161500Z
X-MICROSOFT-CDO-ALLDAYEVENT:FALSE
SUMMARY:GMS Book Club: Six of Crows
DESCRIPTION:Join Mrs. Bice\, Mrs. Tallentire\, and Wendy from GPL to discuss Six of Crows by Leigh Bardugo. We meet in the project center. If you missed the last meeting\, Mrs. Bice has extra copies you can borrow. We will pick January's book at the meeting. Copies of the book are provided at the meeting.
X-ALT-DESC;FMTTYPE=text/html:Join Mrs. Bice\, Mrs. Tallentire\, and Wendy from GPL to discuss Six of Crows by Leigh Bardugo. We meet in the project center. If you missed the last meeting\, Mrs. Bice has extra copies you can borrow. We will pick January&#39\;s book at the meeting. Copies of the book are provided at the meeting.
LOCATION:Granville Middle School
UID:e.180.16151
SEQUENCE:3
DTSTAMP:20260421T111835Z
URL:https://business.granvilleoh.com/events/details/gms-book-club-six-of-crows-16151
END:VEVENT

END:VCALENDAR
