BEGIN:VCALENDAR
VERSION:2.0
PRODID:-//ChamberMaster//Event Calendar 2.0//EN
METHOD:PUBLISH
X-PUBLISHED-TTL:P3D
REFRESH-INTERVAL:P3D
CALSCALE:GREGORIAN
BEGIN:VEVENT
DTSTART:20200415T140000Z
DTEND:20200415T160000Z
X-MICROSOFT-CDO-ALLDAYEVENT:FALSE
SUMMARY:GMS Bookclub
DESCRIPTION:Join Mrs. Bice\, Mrs. Tallentire and GPL's Emily Shellhouse in the GMS library during lunches to discuss this month's titled\, "Children of Blood and Bone" by Tomi Adeyemi or "Girl Made of Stars" by Ashley Herring Blake. April is our last session!
X-ALT-DESC;FMTTYPE=text/html:Join Mrs. Bice\, Mrs. Tallentire and GPL&#39\;s Emily Shellhouse in the GMS library during lunches to discuss this month&#39\;s titled\, &quot\;Children of Blood and Bone&quot\; by Tomi Adeyemi or &quot\;Girl Made of Stars&quot\; by Ashley Herring Blake. April is our last session!
LOCATION:Granville Middle School Library
UID:e.180.14406
SEQUENCE:3
DTSTAMP:20260422T125625Z
URL:https://business.granvilleoh.com/events/details/gms-bookclub-14406
END:VEVENT

END:VCALENDAR
