BEGIN:VCALENDAR
VERSION:2.0
PRODID:-//ChamberMaster//Event Calendar 2.0//EN
METHOD:PUBLISH
X-PUBLISHED-TTL:P3D
REFRESH-INTERVAL:P3D
CALSCALE:GREGORIAN
BEGIN:VEVENT
DTSTART;VALUE=DATE:20200628
DTEND;VALUE=DATE:20200705
TRANSP:TRANSPARENT
X-MICROSOFT-CDO-ALLDAYEVENT:TRUE
SUMMARY:Gnome Place Like Home
DESCRIPTION:Teens\, where is Gnomie? Take a look at the photos and tell us where in Granville he is. Contest forms will be available at the library website. Submit completed forms to lcparker@granvillellibrary.org to be entered into a drawing for an Amazon gift card.
X-ALT-DESC;FMTTYPE=text/html:Teens\, where is Gnomie? Take a look at the photos and tell us where in Granville he is. Contest forms will be available at the library website. Submit completed forms to lcparker@granvillellibrary.org to be entered into a drawing for an Amazon gift card.
LOCATION:Granville Public Library
UID:e.180.14549
SEQUENCE:3
DTSTAMP:20260422T090621Z
URL:https://business.granvilleoh.com/events/details/gnome-place-like-home-14549
END:VEVENT

END:VCALENDAR
