BEGIN:VCALENDAR
VERSION:2.0
PRODID:-//ChamberMaster//Event Calendar 2.0//EN
METHOD:PUBLISH
X-PUBLISHED-TTL:P3D
REFRESH-INTERVAL:P3D
CALSCALE:GREGORIAN
BEGIN:VEVENT
DTSTART:20211118T230000Z
DTEND:20211119T010000Z
X-MICROSOFT-CDO-ALLDAYEVENT:FALSE
SUMMARY:Gnome-vember Knit-A-Long
DESCRIPTION:Join us to create an adorable gnome! We will supply the yarn and stuffing\, you provide the US size 6 40in circular needles. We will be learning the magic loop technique. Basic knitting skills required. Adults and teens (grades 7-12) are welcome to register! Register at GranvilleLibrary.org/calendar/month
X-ALT-DESC;FMTTYPE=text/html:Join us to create an adorable gnome! We will supply the yarn and stuffing\, you provide the US size 6 40in circular needles. We will be learning the magic loop technique. Basic knitting skills required. Adults and teens (grades 7-12) are welcome to register! Register at GranvilleLibrary.org/calendar/month
LOCATION:Granville Public Library
UID:e.180.16147
SEQUENCE:3
DTSTAMP:20260421T111728Z
URL:https://business.granvilleoh.com/events/details/gnome-vember-knit-a-long-16147
END:VEVENT

END:VCALENDAR
