BEGIN:VCALENDAR
VERSION:2.0
PRODID:-//ChamberMaster//Event Calendar 2.0//EN
METHOD:PUBLISH
X-PUBLISHED-TTL:P3D
REFRESH-INTERVAL:P3D
CALSCALE:GREGORIAN
BEGIN:VEVENT
DTSTART:20200213T000000Z
DTEND:20200213T023000Z
X-MICROSOFT-CDO-ALLDAYEVENT:FALSE
SUMMARY:Goodspeed Lecture: 'Identity Politics as Postcolonial Agency in Biblical Studies'
DESCRIPTION:The Goodspeed Lecture welcomes Tat-Siong Benny Liew presenting\, "Identity Politics as Postcolonial Agency in Biblical Studies."\n\n\nLiew is the author of "Politics of Parousia" (Brill\, 1999)\, and "What Is Asian American Biblical Hermeneutics?" (University of Hawaii Press\, 2008). In addition\, he is the editor of the Semeia volume on "The Bible in Asian America" (with Gale Yee\; SBL\, 2002)\, "Postcolonial Interventions" (Sheffield Phoenix\, 2009)\, "They Were All Together in One Place?" (with Randall Bailey and Fernando Segovia\; SBL 2009)\, "Reading Ideologies" (Sheffield Phoenix\, 2011)\, "Psychoanalytical Mediations between Marxist and Postcolonial Readings of the Bible" (with Erin Runions\; SBL\, 2016)\, "Present and Future of Biblical Studies" (Brill\, 2018)\, and "Colonialism and the Bible: Contemporary Reflections from the Global South" (with Fernando Segovia\; Lexington\, 2018). Liew is also the Series Editor of T&T Clark's Study Guides to the New Testament (Bloomsbury).
X-ALT-DESC;FMTTYPE=text/html:<div>\n<div>\n<div>\n<div>\n<div>\n<div>\n<div>\n<div>\n<p>The Goodspeed Lecture welcomes Tat-Siong Benny Liew presenting\, &ldquo\;Identity Politics as Postcolonial Agency in Biblical Studies.&rdquo\;</p>\n\n<div>\n<p><span style="background-color:transparent\; color:rgb(0\, 0\, 0)\; font-family:arial\; font-size:11pt">Liew is the author of &quot\;Politics of Parousia&quot\; (Brill\, 1999)\, and &quot\;What Is Asian American Biblical Hermeneutics?&quot\; (University of Hawaii Press\, 2008). In addition\, he is the editor of the Semeia volume on &ldquo\;The Bible in Asian America&rdquo\; (with Gale Yee\; SBL\, 2002)\, &quot\;Postcolonial Interventions&quot\; (Sheffield Phoenix\, 2009)\, &quot\;They Were All Together in One Place?&quot\; (with Randall Bailey and Fernando Segovia\; SBL 2009)\, &quot\;Reading Ideologies&quot\; (Sheffield Phoenix\, 2011)\, &quot\;Psychoanalytical Mediations between Marxist and Postcolonial Readings of the Bible&quot\; (with Erin Runions\; SBL\, 2016)\, &quot\;Present and Future of Biblical Studies&quot\; (Brill\, 2018)\, and &quot\;Colonialism and the Bible: Contemporary Reflections from the Global South&quot\; (with Fernando Segovia\; Lexington\, 2018). Liew is also the Series Editor of T&amp\;T Clark&rsquo\;s Study Guides to the New Testament (Bloomsbury).</span></p>\n\n<div>&nbsp\;</div>\n</div>\n</div>\n</div>\n</div>\n</div>\n</div>\n</div>\n</div>\n</div>\n
LOCATION:Denison University Slayter Hall Student Union - Auditorium 200 Ridge Road
UID:e.180.14268
SEQUENCE:3
DTSTAMP:20260422T160250Z
URL:https://business.granvilleoh.com/events/details/goodspeed-lecture-identity-politics-as-postcolonial-agency-in-biblical-studies-14268
END:VEVENT

END:VCALENDAR
