BEGIN:VCALENDAR
VERSION:2.0
PRODID:-//ChamberMaster//Event Calendar 2.0//EN
METHOD:PUBLISH
X-PUBLISHED-TTL:P3D
REFRESH-INTERVAL:P3D
CALSCALE:GREGORIAN
BEGIN:VEVENT
DTSTART:20200306T003000Z
DTEND:20200306T023000Z
X-MICROSOFT-CDO-ALLDAYEVENT:FALSE
SUMMARY:Goodspeed Lecture: 'The Moral Laboratory of War'
DESCRIPTION:Denison University's Goodspeed Lecture Series welcomes Joseph Wiinikka-Lydon\, presenting "The Moral Laboratory of War."\n\n\n\nWiinikka-Lydon is currently a researcher at a European Union-funded Center for Ethics at the University of Pardubice\, outside of Prague. His research on religion\, conflict\, and peacebuilding looks at the way violence transforms one's moral development\, also known as moral injury\, and the consequences of such transformation for philosophical and theological notions of the self. \n\nHe is the author most recently of "Moral Injury and the Promise of Virtue\," which explores notions of moral injury during the Bosnian War in the 1990s through the frame of virtue theory and language. Wiinikka-Lydon has also served as an assistant professor of religion at Birmingham-Southern College and as a visiting professor of religion at Denison University.
X-ALT-DESC;FMTTYPE=text/html:<p><span style="color:rgb(69\, 69\, 69)\; font-family:freight sans pro w00\; font-size:19.2px">Denison University&rsquo\;s Goodspeed Lecture Series welcomes&nbsp\;Joseph Wiinikka-Lydon\, presenting &ldquo\;The Moral Laboratory of War.&rdquo\;</span><br />\n<br />\n<span style="background-color:transparent\; color:rgb(0\, 0\, 0)\; font-family:arial\; font-size:11pt">Wiinikka-Lydon is currently a researcher at a European Union-funded Center for Ethics at the University of Pardubice\, outside of Prague. His research on religion\, conflict\, and peacebuilding looks at the way violence transforms one&#39\;s moral development\, also known as moral injury\, and the consequences of such transformation for philosophical and theological notions of the self.&nbsp\;</span></p>\n\n<p><span style="background-color:transparent\; color:rgb(0\, 0\, 0)\; font-family:arial\; font-size:11pt">He is the author most recently of &quot\;Moral Injury and the Promise of Virtue\,&quot\; which explores notions of moral injury during the Bosnian War in the 1990s through the frame of virtue theory and language. Wiinikka-Lydon has also served as an assistant professor of religion at Birmingham-Southern College and as a visiting professor of religion at Denison University.</span></p>\n\n<div>&nbsp\;</div>\n\n<div><br />\n&nbsp\;</div>\n
LOCATION:Denison University Slayter Hall Student Union - Auditorium 200 Ridge Road
UID:e.180.14269
SEQUENCE:3
DTSTAMP:20260422T142750Z
URL:https://business.granvilleoh.com/events/details/goodspeed-lecture-the-moral-laboratory-of-war-14269
END:VEVENT

END:VCALENDAR
