BEGIN:VCALENDAR
VERSION:2.0
PRODID:-//ChamberMaster//Event Calendar 2.0//EN
METHOD:PUBLISH
X-PUBLISHED-TTL:P3D
REFRESH-INTERVAL:P3D
CALSCALE:GREGORIAN
BEGIN:VEVENT
DTSTART:20211212T000000Z
DTEND:20211212T010000Z
X-MICROSOFT-CDO-ALLDAYEVENT:FALSE
SUMMARY:Gospel Choir Concert
DESCRIPTION:The Department of Music presents a winter concert by the Denison University Gospel Choir\, under the direction of Timothy Carpenter.
X-ALT-DESC;FMTTYPE=text/html:<div>\n<p><span style="color:rgb(34\, 34\, 34)\; font-family:arial\,helvetica\,sans-serif\; font-size:small">The Department of Music presents a winter concert by the Denison University Gospel Choir\, under the direction of Timothy Carpenter.</span></p>\n\n<div>&nbsp\;</div>\n</div>\n
LOCATION:Swasey Chapel 200 Chapel Dr
UID:e.180.16136
SEQUENCE:3
DTSTAMP:20260421T111745Z
URL:https://business.granvilleoh.com/events/details/gospel-choir-concert-16136
END:VEVENT

END:VCALENDAR
