BEGIN:VCALENDAR
VERSION:2.0
PRODID:-//ChamberMaster//Event Calendar 2.0//EN
METHOD:PUBLISH
X-PUBLISHED-TTL:P3D
REFRESH-INTERVAL:P3D
CALSCALE:GREGORIAN
BEGIN:VEVENT
DTSTART:20211204T180000Z
DTEND:20211205T010000Z
X-MICROSOFT-CDO-ALLDAYEVENT:FALSE
SUMMARY:Granville Christmas Candlelight Walking Tour
DESCRIPTION:Granville Christmas Candlelight Walking Tour\n\nhttp://granvillecandlelightwalkingtour.com \nThere is no better way to get into the holiday spirit than in the quaint\, New England-style village of Granville.  This year marks the 36th Anniversary that the Village of Granville has entertained thousands of visitors and residents at the Christmas Candlelight Walking Tour. \n\n\n\nStroll along the streets lined with live Christmas trees aglow with sparkling lights. Find special gifts at unique shops\, and dine in a variety of restaurants. Enjoy a horse-drawn carriage ride\, holiday music at area churches\, or visit our museums and businesses that host special events.
X-ALT-DESC;FMTTYPE=text/html:<br />\n<span style="color: rgb(255\, 0\, 0)\;"><span style="font-size: 16px\;"><strong><em>Granville Christmas Candlelight Walking Tour</em></strong></span></span><br />\n<a href="http://granvillecandlelightwalkingtour.com">http://granvillecandlelightwalkingtour.com&#8203\;</a>\n<p style="margin: 0in 0in 0pt\;"><span style="font-size: 16px\;"><em><span style="color: rgb(102\, 102\, 102)\; font-family:">There is no better way to get into the holiday spirit than in the quaint\, New England-style village of Granville.&nbsp\; This year m</span><span style="color: rgb(51\, 51\, 51)\; font-family:">arks the 36th&nbsp\;Anniversary that the Village of Granville has entertained thousands of visitors and residents at the Christmas Candlelight Walking Tour.&nbsp\;</span></em></span></p>\n\n<p style="margin: 0in 0in 0pt\;"><br />\n<span style="font-size: 16px\;"><em><span style="color: rgb(51\, 51\, 51)\; font-family:">Stroll along the streets lined with live Christmas trees aglow with sparkling&nbsp\;lights.&nbsp\;Find&nbsp\;special gifts&nbsp\;at&nbsp\;unique shops\, and&nbsp\;dine in a variety of restaurants. Enjoy a&nbsp\;horse-drawn carriage ride\,&nbsp\;holiday music at area churches\, or visit our&nbsp\;museums and businesses that host special events. </span></em></span></p>\n\n<div>&nbsp\;</div>\n
LOCATION:In the heart of downtown Granville
UID:e.180.16086
SEQUENCE:3
DTSTAMP:20260421T100338Z
URL:https://business.granvilleoh.com/events/details/granville-christmas-candlelight-walking-tour-16086
END:VEVENT

END:VCALENDAR
