BEGIN:VCALENDAR
VERSION:2.0
PRODID:-//ChamberMaster//Event Calendar 2.0//EN
METHOD:PUBLISH
X-PUBLISHED-TTL:P3D
REFRESH-INTERVAL:P3D
CALSCALE:GREGORIAN
BEGIN:VEVENT
DTSTART:20200122T233000Z
DTEND:20200123T003000Z
X-MICROSOFT-CDO-ALLDAYEVENT:FALSE
SUMMARY:Granville's Test Kitchen
DESCRIPTION:For this edition of Granville's Test Kitchen\, we'll be cooking from "Spiced: Unlock the Power of Spices to Transform Your Cooking" by America's Test Kitchen. Learn to use spices to bring out the flavor in your cooking by trying new recipes. This cookbook covers familiar dishes like steakhouse oven fries and the best ground beef chili\; to things you might not have tried before like wasabi tuna salad or marinated cauliflower and chickpeas with saffron. Pick a dish to try and then bring a sample for 10-12 people to share. You'll get to taste test a variety of recipes to find things you like while discussing the book.
X-ALT-DESC;FMTTYPE=text/html:For this edition of Granville&#39\;s Test Kitchen\, we&#39\;ll be cooking from &quot\;Spiced: Unlock the Power of Spices to Transform Your Cooking&quot\; by America&#39\;s Test Kitchen. Learn to use spices to bring out the flavor in your cooking by trying new recipes. This cookbook covers familiar dishes like steakhouse oven fries and the best ground beef chili\; to things you might not have tried before like wasabi tuna salad or marinated cauliflower and chickpeas with saffron. Pick a dish to try and then bring a sample for 10-12 people to share. You&#39\;ll get to taste test a variety of recipes to find things you like while discussing the book.
LOCATION:Granville Public Library
UID:e.180.14027
SEQUENCE:3
DTSTAMP:20260422T171039Z
URL:https://business.granvilleoh.com/events/details/granville-s-test-kitchen-01-22-2020-14027
END:VEVENT

END:VCALENDAR
