BEGIN:VCALENDAR
VERSION:2.0
PRODID:-//ChamberMaster//Event Calendar 2.0//EN
METHOD:PUBLISH
X-PUBLISHED-TTL:P3D
REFRESH-INTERVAL:P3D
CALSCALE:GREGORIAN
BEGIN:VEVENT
DTSTART:20210324T230000Z
DTEND:20210325T000000Z
X-MICROSOFT-CDO-ALLDAYEVENT:FALSE
SUMMARY:Granville's Test Kitchen
DESCRIPTION:Check out a copy of "Oh She Glows for Dinner" by Angela Liddon. try a few recipes\, and share your results during our meeting on Zoom. Warm up with "Cozy Butternut Squash\, Sweet Potato\, and Red Lentil Stew" or "Solid Gold Pumpkin Pie Spice Coconut Latte". Call us at 740-587-0196 to reserve a copy. Or you can cook from Liddon's blog\, Ohhowsheglows.com. Register at GranvilleLibrary.org/calendar/month with an email address to receive a Zoom link to the program about an hour before before it begins.
X-ALT-DESC;FMTTYPE=text/html:Check out a copy of &quot\;Oh She Glows for Dinner&quot\; by Angela Liddon. try a few recipes\, and share your results during our meeting on Zoom. Warm up with &quot\;Cozy Butternut Squash\, Sweet Potato\, and Red Lentil Stew&quot\; or &quot\;Solid Gold Pumpkin Pie Spice Coconut Latte&quot\;. Call us at 740-587-0196 to reserve a copy. Or you can cook from Liddon&#39\;s blog\, Ohhowsheglows.com. Register at GranvilleLibrary.org/calendar/month with an email address to receive a Zoom link to the program about an hour before before it begins.
LOCATION:Granville Public Library via Zoom
UID:e.180.14761
SEQUENCE:3
DTSTAMP:20260421T231103Z
URL:https://business.granvilleoh.com/events/details/granville-s-test-kitchen-03-24-2021-14761
END:VEVENT

END:VCALENDAR
