BEGIN:VCALENDAR
VERSION:2.0
PRODID:-//ChamberMaster//Event Calendar 2.0//EN
METHOD:PUBLISH
X-PUBLISHED-TTL:P3D
REFRESH-INTERVAL:P3D
CALSCALE:GREGORIAN
BEGIN:VEVENT
DTSTART:20200401T223000Z
DTEND:20200401T233000Z
X-MICROSOFT-CDO-ALLDAYEVENT:FALSE
SUMMARY:Granville's Test Kitchen
DESCRIPTION:For this edition of Granville's Test Kitchen\, we'll be cooking from "Half the Sugar\, All of the Love: a family cookbook" by Jennifer Tyler Lee and Anisha Patel\,MD\, MSPH. Find substitutes and recipes that help cut back the sugar in your family's life. Recipes for all types of meals are included\, from main dishes like spinach ricotta calzones to desserts like pecan pie bars. Pick a dish to try and then bring a sample for 10-12 people to share. You'll get to taste test a variety of recipes to find things you like while discussing the book.
X-ALT-DESC;FMTTYPE=text/html:For this edition of Granville&#39\;s Test Kitchen\, we&#39\;ll be cooking from &quot\;Half the Sugar\, All of the Love: a family cookbook&quot\; by Jennifer Tyler Lee and Anisha Patel\,MD\, MSPH. Find substitutes and recipes that help cut back the sugar in your family&#39\;s life. Recipes for all types of meals are included\, from main dishes like spinach ricotta calzones to desserts like pecan pie bars. Pick a dish to try and then bring a sample for 10-12 people to share. You&#39\;ll get to taste test a variety of recipes to find things you like while discussing the book.
LOCATION:Granville Public Library
UID:e.180.14327
SEQUENCE:3
DTSTAMP:20260422T130624Z
URL:https://business.granvilleoh.com/events/details/granville-s-test-kitchen-04-01-2020-14327
END:VEVENT

END:VCALENDAR
