BEGIN:VCALENDAR
VERSION:2.0
PRODID:-//ChamberMaster//Event Calendar 2.0//EN
METHOD:PUBLISH
X-PUBLISHED-TTL:P3D
REFRESH-INTERVAL:P3D
CALSCALE:GREGORIAN
BEGIN:VEVENT
DTSTART:20200603T223000Z
DTEND:20200603T233000Z
X-MICROSOFT-CDO-ALLDAYEVENT:FALSE
SUMMARY:Granville's Test Kitchen
DESCRIPTION:Join us on Zoom for Granville's Test Kitchen. This month we are trying out recipes for the grill using Weber Grill's website or request one of Jamie Purviance's Weber cookbooks from our catalog or on Hoopla. Try a couple of recipes and come prepared to discuss what you liked and didn't like. There's everthing to make your summer tasty! From Portabella's with Chard & Feta\, Coconut-Curry Chicken thighs\, to Apple Cake with Cinnamon & Sugar- get ready for cookouts! Register for our Imagine Your Story Summer Library Program online or by downloading the Beanstack app to your phone. Earn chances to win through reading\, attending events\, and completing activities. All ages can participate!
X-ALT-DESC;FMTTYPE=text/html:Join us on Zoom for Granville&#39\;s Test Kitchen. This month we are trying out recipes for the grill using Weber Grill&#39\;s website or request one of Jamie Purviance&#39\;s Weber cookbooks from our catalog or on Hoopla. Try a couple of recipes and come prepared to discuss what you liked and didn&#39\;t like. There&#39\;s everthing to make your summer tasty! From Portabella&#39\;s with Chard &amp\; Feta\, Coconut-Curry Chicken thighs\, to Apple Cake with Cinnamon &amp\; Sugar- get ready for cookouts! Register for our Imagine Your Story Summer Library Program online or by downloading the Beanstack app to your phone. Earn chances to win through reading\, attending events\, and completing activities. All ages can participate!
LOCATION:Granville Public Library via Zoom
UID:e.180.14504
SEQUENCE:3
DTSTAMP:20260422T113706Z
URL:https://business.granvilleoh.com/events/details/granville-s-test-kitchen-06-03-2020-14504
END:VEVENT

END:VCALENDAR
