BEGIN:VCALENDAR
VERSION:2.0
PRODID:-//ChamberMaster//Event Calendar 2.0//EN
METHOD:PUBLISH
X-PUBLISHED-TTL:P3D
REFRESH-INTERVAL:P3D
CALSCALE:GREGORIAN
BEGIN:VEVENT
DTSTART:20210922T230000Z
DTEND:20210923T000000Z
X-MICROSOFT-CDO-ALLDAYEVENT:FALSE
SUMMARY:Granville's Test Kitchen
DESCRIPTION:We're cooking from Ina Garten's Modern Comfort Food Cookbook. Bring a dish to share\, enough for 10-12 people to have a taste. Discuss what worked\, what you liked\, and any other recipes you tried and liked from the book. Copies of the book are available at our main desk. Register at GranvilleLibrary.org/calendar/month
X-ALT-DESC;FMTTYPE=text/html:We&#39\;re cooking from Ina Garten&#39\;s Modern Comfort Food Cookbook. Bring a dish to share\, enough for 10-12 people to have a taste. Discuss what worked\, what you liked\, and any other recipes you tried and liked from the book. Copies of the book are available at our main desk. Register at GranvilleLibrary.org/calendar/month
LOCATION:Granville Public Library
UID:e.180.16057
SEQUENCE:3
DTSTAMP:20260421T140253Z
URL:https://business.granvilleoh.com/events/details/granville-s-test-kitchen-09-22-2021-16057
END:VEVENT

END:VCALENDAR
