BEGIN:VCALENDAR
VERSION:2.0
PRODID:-//ChamberMaster//Event Calendar 2.0//EN
METHOD:PUBLISH
X-PUBLISHED-TTL:P3D
REFRESH-INTERVAL:P3D
CALSCALE:GREGORIAN
BEGIN:VEVENT
DTSTART:20200923T223000Z
DTEND:20200923T233000Z
X-MICROSOFT-CDO-ALLDAYEVENT:FALSE
SUMMARY:Granville's Test Kitchen
DESCRIPTION:This month we're cooking from Kathryne Taylor's Cookie + Kate blog and her book "Love Real Food".   Try making carrot cake breakfast cookies\, sun-dried tomato fettuccine alfredo with spinach\, or roasted strawberry\, basil and goat cheese crostini.   Curl up with a creamy cashew chai latte while you explore this cookbook!\n\nReserve a copy of the book by emailing wbittel@granvillelibrary.org.   Our cookbook discussion will take place on Zoom.
X-ALT-DESC;FMTTYPE=text/html:This month we're cooking from Kathryne Taylor's Cookie + Kate blog and her book "Love Real Food".   Try making carrot cake breakfast cookies\, sun-dried tomato fettuccine alfredo with spinach\, or roasted strawberry\, basil and goat cheese crostini.   Curl up with a creamy cashew chai latte while you explore this cookbook!\n\nReserve a copy of the book by emailing wbittel@granvillelibrary.org.   Our cookbook discussion will take place on Zoom.  
LOCATION:Granville Public Library via Zoom
UID:e.180.14593
SEQUENCE:3
DTSTAMP:20260422T071755Z
URL:https://business.granvilleoh.com/events/details/granville-s-test-kitchen-09-23-2020-14593
END:VEVENT

END:VCALENDAR
