BEGIN:VCALENDAR
VERSION:2.0
PRODID:-//ChamberMaster//Event Calendar 2.0//EN
METHOD:PUBLISH
X-PUBLISHED-TTL:P3D
REFRESH-INTERVAL:P3D
CALSCALE:GREGORIAN
BEGIN:VEVENT
DTSTART:20211207T230000Z
DTEND:20211208T000000Z
X-MICROSOFT-CDO-ALLDAYEVENT:FALSE
SUMMARY:Granville's Test Kitchen: Cooking with Palumbo's
DESCRIPTION:Cindy Palumbo will lead us to make festive Italian holiday cookies. Register to reserve your supply kit and for a list of basic items\, you will need to have on-hand to cook along with Cindy in this live Zoom program. One registration per household\, please. You will be notified when kits are available to pick up at Palumbo's Italian Market. Register at GranvilleLibrary.org/calendar/month
X-ALT-DESC;FMTTYPE=text/html:Cindy Palumbo will lead us to make festive Italian holiday cookies. Register to reserve your supply kit and for a list of basic items\, you will need to have on-hand to cook along with Cindy in this live Zoom program. One registration per household\, please. You will be notified when kits are available to pick up at Palumbo&#39\;s Italian Market. Register at GranvilleLibrary.org/calendar/month
LOCATION:Granville Public Library
UID:e.180.16156
SEQUENCE:3
DTSTAMP:20260421T100307Z
URL:https://business.granvilleoh.com/events/details/granville-s-test-kitchen-cooking-with-palumbo-s-16156
END:VEVENT

END:VCALENDAR
