BEGIN:VCALENDAR
VERSION:2.0
PRODID:-//ChamberMaster//Event Calendar 2.0//EN
METHOD:PUBLISH
X-PUBLISHED-TTL:P3D
REFRESH-INTERVAL:P3D
CALSCALE:GREGORIAN
BEGIN:VEVENT
DTSTART:20211111T000000Z
DTEND:20211111T010000Z
X-MICROSOFT-CDO-ALLDAYEVENT:FALSE
SUMMARY:Granville's Test Kitchen: Favorite Recipe Exchange
DESCRIPTION:Make your favorite recipe to bring and a copy of the recipe to share! (We can make copies of your recipe to share). Be it a favorite family holiday recipe\, a special dessert or cookie passed down\, or your own favorite creation\, we can try them all and you can share the story behind the recipe. Register at GranvilleLibrary.org/calendar/month
X-ALT-DESC;FMTTYPE=text/html:Make your favorite recipe to bring and a copy of the recipe to share! (We can make copies of your recipe to share). Be it a favorite family holiday recipe\, a special dessert or cookie passed down\, or your own favorite creation\, we can try them all and you can share the story behind the recipe. Register at GranvilleLibrary.org/calendar/month
LOCATION:Granville Public Library
UID:e.180.16108
SEQUENCE:3
DTSTAMP:20260421T124155Z
URL:https://business.granvilleoh.com/events/details/granville-s-test-kitchen-favorite-recipe-exchange-16108
END:VEVENT

END:VCALENDAR
