BEGIN:VCALENDAR
VERSION:2.0
PRODID:-//ChamberMaster//Event Calendar 2.0//EN
METHOD:PUBLISH
X-PUBLISHED-TTL:P3D
REFRESH-INTERVAL:P3D
CALSCALE:GREGORIAN
BEGIN:VEVENT
DTSTART:20210623T230000Z
DTEND:20210624T000000Z
X-MICROSOFT-CDO-ALLDAYEVENT:FALSE
SUMMARY:Granville's Test Kitchen: Jubilee
DESCRIPTION:We are cooking from Jubilee: Recipes from Two Centuries of African American Cooking by Toni Tipton-Martin. Try things like Island Banana Bread with pecans and Mejool dates\, Biscuit-Topped Chicken Pot Pie\, or Maque Choux with corn and green peppers. Register at GranvilleLibrary.org/calendar/month Bring a dish to share with 10-12 people if you like. Come to discuss the recipes you tried! We will meet on the Sinnett House back patio. If the weather is uncooperative\, we will meet inside the library. The Sinnett House patio is located behind the Sinnett House. The Sinnett House is the first house behind the Post Office and across the street from Taco Dan's. The patio can be accessed from the paver walkway behind the library or the Sinnett House driveway.
X-ALT-DESC;FMTTYPE=text/html:We are cooking from Jubilee: Recipes from Two Centuries of African American Cooking by Toni Tipton-Martin. Try things like Island Banana Bread with pecans and Mejool dates\, Biscuit-Topped Chicken Pot Pie\, or Maque Choux with corn and green peppers. Register at GranvilleLibrary.org/calendar/month Bring a dish to share with 10-12 people if you like. Come to discuss the recipes you tried! We will meet on the Sinnett House back patio. If the weather is uncooperative\, we will meet inside the library. The Sinnett House patio is located behind the Sinnett House. The Sinnett House is the first house behind the Post Office and across the street from Taco Dan&#39\;s. The patio can be accessed from the paver walkway behind the library or the Sinnett House driveway.
LOCATION:Granville Public Library
UID:e.180.14819
SEQUENCE:3
DTSTAMP:20260421T175231Z
URL:https://business.granvilleoh.com/events/details/granville-s-test-kitchen-jubilee-14819
END:VEVENT

END:VCALENDAR
