BEGIN:VCALENDAR
VERSION:2.0
PRODID:-//ChamberMaster//Event Calendar 2.0//EN
METHOD:PUBLISH
X-PUBLISHED-TTL:P3D
REFRESH-INTERVAL:P3D
CALSCALE:GREGORIAN
BEGIN:VEVENT
DTSTART:20201111T233000Z
DTEND:20201112T003000Z
X-MICROSOFT-CDO-ALLDAYEVENT:FALSE
SUMMARY:Granville's Test Kitchen via Zoom
DESCRIPTION:We're cooking from Sally's Baking Addiction this session! Update your holiday baking repertoire by trying something new and sharing it at our next Granville's Test Kitchen. Reserve one of Sally's books or bake something from her website. We'll meet to share what we learned\, what worked out great\, and what you'd recommend others try. Sally's books include "Sally's Baking Addiction: Irresistible Cookies\, Cupcakes\, and Desserts for your Sweet Tooth Fix"\, "Sally's Candy Addiction: Tasty Truffles\, Fudges\, and Treats"\, and "Sally's Cookie Addiction: Irresistible Cookies\, Bars\, Shortbreads\, and More". Registration required. You will emailed a link to the Zoom meeting about an hour before the start of the program. Register at GranvilleLibrary.org/calendar/month
X-ALT-DESC;FMTTYPE=text/html:We&#39\;re cooking from Sally&#39\;s Baking Addiction this session! Update your holiday baking repertoire by trying something new and sharing it at our next Granville&#39\;s Test Kitchen. Reserve one of Sally&#39\;s books or bake something from her website. We&#39\;ll meet to share what we learned\, what worked out great\, and what you&#39\;d recommend others try. Sally&#39\;s books include &quot\;Sally&#39\;s Baking Addiction: Irresistible Cookies\, Cupcakes\, and Desserts for your Sweet Tooth Fix&quot\;\, &quot\;Sally&#39\;s Candy Addiction: Tasty Truffles\, Fudges\, and Treats&quot\;\, and &quot\;Sally&#39\;s Cookie Addiction: Irresistible Cookies\, Bars\, Shortbreads\, and More&quot\;. Registration required. You will emailed a link to the Zoom meeting about an hour before the start of the program. Register at GranvilleLibrary.org/calendar/month
LOCATION:Granville Public Library
UID:e.180.14667
SEQUENCE:3
DTSTAMP:20260422T043945Z
URL:https://business.granvilleoh.com/events/details/granville-s-test-kitchen-via-zoom-14667
END:VEVENT

END:VCALENDAR
