BEGIN:VCALENDAR
VERSION:2.0
PRODID:-//ChamberMaster//Event Calendar 2.0//EN
METHOD:PUBLISH
X-PUBLISHED-TTL:P3D
REFRESH-INTERVAL:P3D
CALSCALE:GREGORIAN
BEGIN:VEVENT
DTSTART:20210205T210000Z
DTEND:20210205T213000Z
X-MICROSOFT-CDO-ALLDAYEVENT:FALSE
SUMMARY:Graphic Novel Club on Zoom
DESCRIPTION:Read and discuss A Cat Story (by Ursula Murray Husted). Registrants will get a copy of the book to keep and will be notified when their book is available for pick-up. Please only take a book if you plan on participating in this live Zoom program. For Grades 4 to 6. Limited to 15 participants. Register with an email address to receive a Zoom login about an hour before the program. Register at GranvilleLibrary.org/calendar/month
X-ALT-DESC;FMTTYPE=text/html:Read and discuss A Cat Story (by Ursula Murray Husted). Registrants will get a copy of the book to keep and will be notified when their book is available for pick-up. Please only take a book if you plan on participating in this live Zoom program. For Grades 4 to 6. Limited to 15 participants. Register with an email address to receive a Zoom login about an hour before the program. Register at GranvilleLibrary.org/calendar/month
LOCATION:Granville Public Library via Zoom
UID:e.180.14718
SEQUENCE:3
DTSTAMP:20260421T233247Z
URL:https://business.granvilleoh.com/events/details/graphic-novel-club-on-zoom-02-05-2021-14718
END:VEVENT

END:VCALENDAR
