BEGIN:VCALENDAR
VERSION:2.0
PRODID:-//ChamberMaster//Event Calendar 2.0//EN
METHOD:PUBLISH
X-PUBLISHED-TTL:P3D
REFRESH-INTERVAL:P3D
CALSCALE:GREGORIAN
BEGIN:VEVENT
DTSTART:20210402T200000Z
DTEND:20210402T203000Z
X-MICROSOFT-CDO-ALLDAYEVENT:FALSE
SUMMARY:Graphic Novel Club on Zoom
DESCRIPTION:Read and discuss Katie the Catsitter by Colleen AF Venable\, illustrated by Stephanie Yue. Registrants will get a copy of the book to keep and will be notified when their book is available for pick-up. Please only take a book if you plan on participating in this live Zoom program. Register with an email address to receive a Zoom login about an hour before the program. Register at GranvilleLibrary.org/calendar/month For Grades 4 to 6. Limited to 20 participants.
X-ALT-DESC;FMTTYPE=text/html:Read and discuss Katie the Catsitter by Colleen AF Venable\, illustrated by Stephanie Yue. Registrants will get a copy of the book to keep and will be notified when their book is available for pick-up. Please only take a book if you plan on participating in this live Zoom program. Register with an email address to receive a Zoom login about an hour before the program. Register at GranvilleLibrary.org/calendar/month For Grades 4 to 6. Limited to 20 participants.
LOCATION:Granville Public Library
UID:e.180.14766
SEQUENCE:3
DTSTAMP:20260421T220622Z
URL:https://business.granvilleoh.com/events/details/graphic-novel-club-on-zoom-04-02-2021-14766
END:VEVENT

END:VCALENDAR
