BEGIN:VCALENDAR
VERSION:2.0
PRODID:-//ChamberMaster//Event Calendar 2.0//EN
METHOD:PUBLISH
X-PUBLISHED-TTL:P3D
REFRESH-INTERVAL:P3D
CALSCALE:GREGORIAN
BEGIN:VEVENT
DTSTART:20211021T203000Z
DTEND:20211021T210000Z
X-MICROSOFT-CDO-ALLDAYEVENT:FALSE
SUMMARY:Graphic Novel Club on Zoom
DESCRIPTION:Come to this Zoom meeting prepared to discuss The Ghoul Next Door by Cullen Bunn\, illustrated Cat Farris. Registrants will get a copy of the book to keep and will be notified when their book is available for pick-up. Please only take a book if you plan on participating in this live Zoom program. Grades 4 to 6. Limited to 15 participants. The Zoom link will be emailed about an hour before the program. Register GranvilleLibrary.org/calendar/month
X-ALT-DESC;FMTTYPE=text/html:Come to this Zoom meeting prepared to discuss The Ghoul Next Door by Cullen Bunn\, illustrated Cat Farris. Registrants will get a copy of the book to keep and will be notified when their book is available for pick-up. Please only take a book if you plan on participating in this live Zoom program. Grades 4 to 6. Limited to 15 participants. The Zoom link will be emailed about an hour before the program. Register GranvilleLibrary.org/calendar/month
LOCATION:Granville Public Library via Zoom
UID:e.180.16095
SEQUENCE:3
DTSTAMP:20260421T140452Z
URL:https://business.granvilleoh.com/events/details/graphic-novel-club-on-zoom-10-21-2021-16095
END:VEVENT

END:VCALENDAR
