BEGIN:VCALENDAR
VERSION:2.0
PRODID:-//ChamberMaster//Event Calendar 2.0//EN
METHOD:PUBLISH
X-PUBLISHED-TTL:P3D
REFRESH-INTERVAL:P3D
CALSCALE:GREGORIAN
BEGIN:VEVENT
DTSTART:20201204T210000Z
DTEND:20201204T213000Z
X-MICROSOFT-CDO-ALLDAYEVENT:FALSE
SUMMARY:Graphic Novel Club on Zoom
DESCRIPTION:Read and discuss The Pathfinder Society: The Mystery of the Moon Tower (by Francesco Sedita and Prescott Seraydarian\, illustrated by Steve Hamaker). The first 15 registrants will get a copy of the book to keep and will be notified when their book is available for pick-up. Please only take a book if you plan on participating in this live Zoom program. For Grades 4 to 6. The first 10 registrants will get a copy of the book. Register with an email address to receive a Zoom login about an hour before the program. Register at GranvilleLibrary.org/calendar/month
X-ALT-DESC;FMTTYPE=text/html:Read and discuss The Pathfinder Society: The Mystery of the Moon Tower (by Francesco Sedita and Prescott Seraydarian\, illustrated by Steve Hamaker). The first 15 registrants will get a copy of the book to keep and will be notified when their book is available for pick-up. Please only take a book if you plan on participating in this live Zoom program. For Grades 4 to 6. The first 10 registrants will get a copy of the book. Register with an email address to receive a Zoom login about an hour before the program. Register at GranvilleLibrary.org/calendar/month
LOCATION:Granville Public Library via Zoom
UID:e.180.14681
SEQUENCE:3
DTSTAMP:20260422T020432Z
URL:https://business.granvilleoh.com/events/details/graphic-novel-club-on-zoom-12-04-2020-14681
END:VEVENT

END:VCALENDAR
