BEGIN:VCALENDAR
VERSION:2.0
PRODID:-//ChamberMaster//Event Calendar 2.0//EN
METHOD:PUBLISH
X-PUBLISHED-TTL:P3D
REFRESH-INTERVAL:P3D
CALSCALE:GREGORIAN
BEGIN:VEVENT
DTSTART:20211119T003000Z
DTEND:20211119T013000Z
X-MICROSOFT-CDO-ALLDAYEVENT:FALSE
SUMMARY:Guest artist recital: Emely Phelps
DESCRIPTION:The Department of Music welcomes guest artist Emely Phelps presenting a recital on piano. Recently appointed Artist-Teacher of Piano at Ohio University\, pianist Emely Phelps enjoys a multifaceted career as a soloist\, chamber musician and teacher. Praised by the Boston Globe for her "fleet\, energetic\, and bright-toned" playing\, Emely made her solo orchestral debut with the National Symphony Orchestra as the grand prizewinner of their Young Soloists Competition\, and has since been a featured soloist with the Las Colinas Symphony Orchestra\, Washington Metropolitan Philharmonic\, Little River Symphony\, McLean Symphony\, and the Montgomery Symphony Orchestra. She has presented solo recitals throughout North America and Europe\, with annual appearances in New York and Boston beginning in 2016\, and additional highlights including recitals at Slot Schagen and Muiderslot in the Netherlands\, Strathmore Hall's Music in the Mansion Series\, Banff Centre for the Arts\, the Alden Theater\, Meredith College\, and Glen Eyrie.
X-ALT-DESC;FMTTYPE=text/html:<div>\n<p>The Department of Music welcomes guest artist Emely Phelps presenting a recital on piano. Recently appointed Artist-Teacher of Piano at Ohio University\, pianist Emely Phelps enjoys a multifaceted career as a soloist\, chamber musician and teacher. Praised by the Boston Globe for her &quot\;fleet\, energetic\, and bright-toned&quot\; playing\, Emely made her solo orchestral debut with the National Symphony Orchestra as the grand prizewinner of their Young Soloists Competition\, and has since been a featured soloist with the Las Colinas Symphony Orchestra\, Washington Metropolitan Philharmonic\, Little River Symphony\, McLean Symphony\, and the Montgomery Symphony Orchestra. She has presented solo recitals throughout North America and Europe\, with annual appearances in New York and Boston beginning in 2016\, and additional highlights including recitals at Slot Schagen and Muiderslot in the Netherlands\, Strathmore Hall&#39\;s Music in the Mansion Series\, Banff Centre for the Arts\, the Alden Theater\, Meredith College\, and Glen Eyrie.</p>\n\n<p>&nbsp\;</p>\n\n<div>&nbsp\;</div>\n</div>\n
LOCATION:Michael D. Eisner Center for the Performing Arts - Burke Recital Hall 240 W Broadway Granville
UID:e.180.16116
SEQUENCE:3
DTSTAMP:20260421T125854Z
URL:https://business.granvilleoh.com/events/details/guest-artist-recital-emely-phelps-16116
END:VEVENT

END:VCALENDAR
