BEGIN:VCALENDAR
VERSION:2.0
PRODID:-//ChamberMaster//Event Calendar 2.0//EN
METHOD:PUBLISH
X-PUBLISHED-TTL:P3D
REFRESH-INTERVAL:P3D
CALSCALE:GREGORIAN
BEGIN:VEVENT
DTSTART:20200129T003000Z
DTEND:20200129T020000Z
X-MICROSOFT-CDO-ALLDAYEVENT:FALSE
SUMMARY:Guest Artist Recital: Pianist Henning Vauth
DESCRIPTION:The Department of Music presents a guest recital with German pianist Henning Vauth. Vauth serves as associate professor of Piano\, coordinator of Keyboard Studies\, and director of the Center for Wellness in the Arts at Marshall University in West Virginia. A laureate at international competitions in Italy and Norway\, Vauth has performed throughout the United States\, in Europe\, and in South America at venues such as Alice Tully Hall\, Lincoln Center in New York\, Konzerthaus in Berlin\, Salle Cortot in Paris\, and Centro de Artes in Goiania\, Brazil.
X-ALT-DESC;FMTTYPE=text/html:<span style="color:rgb(69\, 69\, 69)\; font-family:freight sans pro w00\; font-size:19.2px">The Department of Music presents a guest recital with&nbsp\;German pianist Henning Vauth. Vauth serves as associate professor of Piano\, coordinator of Keyboard Studies\, and director of the Center for Wellness in the Arts at Marshall University in West Virginia. A laureate at international competitions in Italy and Norway\, Vauth has performed throughout the United States\, in Europe\, and in South America at venues such as Alice Tully Hall\, Lincoln Center in New York\, Konzerthaus in Berlin\, Salle Cortot in Paris\, and Centro de Artes in Goiania\, Brazil.</span>
LOCATION:Denison University Burke Recital Hall in the Michael D. Eisner Center for Performing Arts 240 West Broadway
UID:e.180.14069
SEQUENCE:3
DTSTAMP:20260422T171454Z
URL:https://business.granvilleoh.com/events/details/guest-artist-recital-pianist-henning-vauth-14069
END:VEVENT

END:VCALENDAR
