BEGIN:VCALENDAR
VERSION:2.0
PRODID:-//ChamberMaster//Event Calendar 2.0//EN
METHOD:PUBLISH
X-PUBLISHED-TTL:P3D
REFRESH-INTERVAL:P3D
CALSCALE:GREGORIAN
BEGIN:VEVENT
DTSTART:20200226T003000Z
DTEND:20200226T020000Z
X-MICROSOFT-CDO-ALLDAYEVENT:FALSE
SUMMARY:Guest Recital with Volist Stephanie Price-Wong
DESCRIPTION:The Department of Music presents a guest recital with violist Stephanie Price-Wong. Price-Wong will perform a program of music by Schumann and Clarke.
X-ALT-DESC;FMTTYPE=text/html:<span style="background-color:transparent\; color:rgb(0\, 0\, 0)\; font-family:arial\; font-size:11pt">The Department of Music presents a guest recital with violist Stephanie Price-Wong. Price-Wong will perform a program of music by Schumann and Clarke.</span>\n<div>&nbsp\;</div>\n
LOCATION:Denison University Burke Recital Hall of the Michael D. Eisner Center for the Performing Arts 240 West Broadway
UID:e.180.14256
SEQUENCE:3
DTSTAMP:20260422T154606Z
URL:https://business.granvilleoh.com/events/details/guest-recital-with-volist-stephanie-price-wong-14256
END:VEVENT

END:VCALENDAR
