BEGIN:VCALENDAR
VERSION:2.0
PRODID:-//ChamberMaster//Event Calendar 2.0//EN
METHOD:PUBLISH
X-PUBLISHED-TTL:P3D
REFRESH-INTERVAL:P3D
CALSCALE:GREGORIAN
BEGIN:VEVENT
DTSTART:20201029T213000Z
DTEND:20201029T230000Z
X-MICROSOFT-CDO-ALLDAYEVENT:FALSE
SUMMARY:Halloween Scavenger Photo Hunt
DESCRIPTION:(Ages: All) Grab your family members and work together to scour Granville for items featured in a Halloween Photo Scavenger Hunt sponsored by the GRD. Items to find will be posted on the Granville Recreation District Facebook Page (https://www.facebook.com/GranvilleRec) at 4:30PM on October 29th. Groups will have from 4:30-7PM to search & snap photos of all items on the list. Groups who find and submit photos of all the items\, will be entered into a drawing. Email your photo submissions with your name and contact information by 8PM\, October 29th (no late submissions excepted)\, to Lara Benschoter. Entries will be entered into a drawing for a chance to win a prize. Winner will be announced Friday\, October 30th.
X-ALT-DESC;FMTTYPE=text/html:(Ages: All) Grab your family members and work together to scour Granville for items featured in a Halloween Photo Scavenger Hunt sponsored by the GRD. Items to find will be posted on the Granville Recreation District Facebook Page (https://www.facebook.com/GranvilleRec) at 4:30PM on October 29th. Groups will have from 4:30-7PM to search &amp\; snap photos of all items on the list. Groups who find and submit photos of all the items\, will be entered into a drawing. Email your photo submissions with your name and contact information by 8PM\, October 29th (no late submissions excepted)\, to Lara Benschoter. Entries will be entered into a drawing for a chance to win a prize. Winner will be announced Friday\, October 30th.
LOCATION:
UID:e.180.14650
SEQUENCE:3
DTSTAMP:20260422T044051Z
URL:https://business.granvilleoh.com/events/details/halloween-scavenger-photo-hunt-14650
END:VEVENT

END:VCALENDAR
