BEGIN:VCALENDAR
VERSION:2.0
PRODID:-//ChamberMaster//Event Calendar 2.0//EN
METHOD:PUBLISH
X-PUBLISHED-TTL:P3D
REFRESH-INTERVAL:P3D
CALSCALE:GREGORIAN
BEGIN:VEVENT
DTSTART:20211207T213000Z
DTEND:20211207T221500Z
X-MICROSOFT-CDO-ALLDAYEVENT:FALSE
SUMMARY:Hand-Lettered Cards on Zoom
DESCRIPTION:Local artist Allison Shackelford will teach kids how to hand-letter greeting cards. Registrants will be notified when supplies for practicing during the presentation are ready to pick up. Zoom links will be sent before the program. Grades 3 to 6. Register at GranvilleLibrary.org/calendar/month
X-ALT-DESC;FMTTYPE=text/html:Local artist Allison Shackelford will teach kids how to hand-letter greeting cards. Registrants will be notified when supplies for practicing during the presentation are ready to pick up. Zoom links will be sent before the program. Grades 3 to 6. Register at GranvilleLibrary.org/calendar/month
LOCATION:Granville Public Library
UID:e.180.16155
SEQUENCE:3
DTSTAMP:20260421T111637Z
URL:https://business.granvilleoh.com/events/details/hand-lettered-cards-on-zoom-16155
END:VEVENT

END:VCALENDAR
