BEGIN:VCALENDAR
VERSION:2.0
PRODID:-//ChamberMaster//Event Calendar 2.0//EN
METHOD:PUBLISH
X-PUBLISHED-TTL:P3D
REFRESH-INTERVAL:P3D
CALSCALE:GREGORIAN
BEGIN:VEVENT
DTSTART:20211120T150000Z
DTEND:20211120T160000Z
X-MICROSOFT-CDO-ALLDAYEVENT:FALSE
SUMMARY:Healthy Ways to Prepare for the Holidays
DESCRIPTION:Join Victoria P Davis\, C.P.T.\, CSN\, at The Dawes Arboretum\, to learn tips and strategies that will help you and your family stay healthy and happy while enjoying the holiday season. Learn about nutrition\, exercise\, wellness\, and overall lifestyle hacks that you can implement right away!
X-ALT-DESC;FMTTYPE=text/html:Join Victoria P Davis\, C.P.T.\, CSN\, at The Dawes Arboretum\, to learn tips and strategies that will help you and your family stay healthy and happy while enjoying the holiday season. Learn about nutrition\, exercise\, wellness\, and overall lifestyle hacks that you can implement right away!
LOCATION:The Dawes Arboretum\, 7770 Jacksontown Rd. \, Newark OH 43056
UID:e.180.16141
SEQUENCE:3
DTSTAMP:20260421T125846Z
URL:https://business.granvilleoh.com/events/details/healthy-ways-to-prepare-for-the-holidays-16141
END:VEVENT

END:VCALENDAR
