BEGIN:VCALENDAR
VERSION:2.0
PRODID:-//ChamberMaster//Event Calendar 2.0//EN
METHOD:PUBLISH
X-PUBLISHED-TTL:P3D
REFRESH-INTERVAL:P3D
CALSCALE:GREGORIAN
BEGIN:VEVENT
DTSTART:20201031T170000Z
DTEND:20201031T174500Z
X-MICROSOFT-CDO-ALLDAYEVENT:FALSE
SUMMARY:Here They Come: A Halloween Visit with David Hyde Costello via Zoom
DESCRIPTION:After David Hyde Costello reads from his Halloween book\, kids will help him draw a monster and talk to a hobgoblin named Wikwik. (All Ages)\n \nRegister with an email address to receive a Zoom login about an hour before the program.  GranvilleLibrary.org/calendar/month
X-ALT-DESC;FMTTYPE=text/html:After David Hyde Costello reads from his Halloween book\, kids will help him draw a monster and talk to a hobgoblin named Wikwik. (All Ages)\n \nRegister with an email address to receive a Zoom login about an hour before the program.  GranvilleLibrary.org/calendar/month
LOCATION:Granville Public Library
UID:e.180.14652
SEQUENCE:3
DTSTAMP:20260422T044128Z
URL:https://business.granvilleoh.com/events/details/here-they-come-a-halloween-visit-with-david-hyde-costello-via-zoom-14652
END:VEVENT

END:VCALENDAR
