BEGIN:VCALENDAR
VERSION:2.0
PRODID:-//ChamberMaster//Event Calendar 2.0//EN
METHOD:PUBLISH
X-PUBLISHED-TTL:P3D
REFRESH-INTERVAL:P3D
CALSCALE:GREGORIAN
BEGIN:VEVENT
DTSTART:20211208T163000Z
DTEND:20211208T180000Z
X-MICROSOFT-CDO-ALLDAYEVENT:FALSE
SUMMARY:Holiday Member Meeting & Luncheon
DESCRIPTION:Join us as we gather for our annual Holiday Member Meeting & Luncheon!  This year we will gather at the recently renovated Cherry Valley Hotel and you'll get to observe the splendor of their spacious lobby decorated as a true Winter Wonderland!   As is our custom we will recognize and thank retiring Board Members at this occasion.  Granville Mayor Melissa Hartfield will also join us and conduct a brief swearing in ceremony to welcome recently elected Directors to our Board.  Finally\, as a special holiday treat this year\, we are delighted to host members of the Land of Legends Barbershop Chorus who will be on hand to provide some delightful seasonal music.
X-ALT-DESC;FMTTYPE=text/html:Join us as we gather for our annual Holiday Member Meeting &amp\; Luncheon!&nbsp\; This year we will gather at the recently renovated Cherry Valley Hotel and you&#39\;ll get to observe the splendor of their spacious lobby decorated as a true Winter Wonderland!&nbsp\; &nbsp\;As is our custom we will recognize and thank retiring Board Members at this occasion.&nbsp\; Granville Mayor Melissa Hartfield will also join us and conduct a brief swearing in ceremony to welcome recently elected Directors to our Board.&nbsp\; Finally\, as a special holiday treat this year\, we are delighted to host members of the Land of Legends Barbershop Chorus who will be on hand to provide some delightful seasonal music.&nbsp\;&nbsp\;
LOCATION:Cherry Valley Hotel 2299 Cherry Valley Road SE Newark\, OH 43055
UID:e.180.16158
SEQUENCE:3
DTSTAMP:20260421T100318Z
URL:https://business.granvilleoh.com/events/details/holiday-member-meeting-luncheon-16158
END:VEVENT

END:VCALENDAR
