BEGIN:VCALENDAR
VERSION:2.0
PRODID:-//ChamberMaster//Event Calendar 2.0//EN
METHOD:PUBLISH
X-PUBLISHED-TTL:P3D
REFRESH-INTERVAL:P3D
CALSCALE:GREGORIAN
BEGIN:VEVENT
DTSTART:20200204T210000Z
DTEND:20200204T230000Z
X-MICROSOFT-CDO-ALLDAYEVENT:FALSE
SUMMARY:Homework Hangout
DESCRIPTION:Need a quiet place to study? Have questions about a research project? Librarians will be available to help. Grades K to 6
X-ALT-DESC;FMTTYPE=text/html:Need a quiet place to study? Have questions about a research project? Librarians will be available to help. Grades K to 6
LOCATION:Granville Public Library
UID:e.180.14042
SEQUENCE:3
DTSTAMP:20260422T154105Z
URL:https://business.granvilleoh.com/events/details/homework-hangout-02-04-2020-14042
END:VEVENT

END:VCALENDAR
