BEGIN:VCALENDAR
VERSION:2.0
PRODID:-//ChamberMaster//Event Calendar 2.0//EN
METHOD:PUBLISH
X-PUBLISHED-TTL:P3D
REFRESH-INTERVAL:P3D
CALSCALE:GREGORIAN
BEGIN:VEVENT
DTSTART;VALUE=DATE:20210911
DTEND;VALUE=DATE:20210912
TRANSP:TRANSPARENT
X-MICROSOFT-CDO-ALLDAYEVENT:TRUE
SUMMARY:HotLicks BluesFest - brought to you by NOCA
DESCRIPTION:The HotLicks Blues Fest is dedicated to presenting and celebrating a great American art form\, the BLUES!! \n\n\n\nBrought to you by NOCA - Newark Organization for the Creative Arts\n\n\n\nThe main stage will feature live music from 2pm to 10pm featuring three time grammy award winning artist Taj Mahal.
X-ALT-DESC;FMTTYPE=text/html:<span style="font-size:16px\;"><strong><span style="color: rgb(95\, 95\, 95)\; font-family: Helvetica\, sans-serif\; background-color: rgb(255\, 255\, 255)\;">The HotLicks Blues Fest is&nbsp\;</span><span style="color: rgb(5\, 5\, 5)\; font-family: &quot\;Segoe UI Historic&quot\;\, &quot\;Segoe UI&quot\;\, Helvetica\, Arial\, sans-serif\;">dedicated to presenting and celebrating a great American art form\, the BLUES!!&nbsp\;</span></strong><br />\n<br />\n<span style="color: rgb(5\, 5\, 5)\; font-family: &quot\;Segoe UI Historic&quot\;\, &quot\;Segoe UI&quot\;\, Helvetica\, Arial\, sans-serif\;">Brought to you by NOCA - Newark Organization for the Creative Arts</span></span><br />\n<br />\n<strong><span style="color: rgb(95\, 95\, 95)\; font-family: Helvetica\, sans-serif\; font-size: 14px\; background-color: rgb(255\, 255\, 255)\;"><span style="font-size:16px\;">The main stage will feature live music from 2pm to 10pm featuring three time grammy award winning artist Taj Mahal.</span></span></strong>
LOCATION:East Broadway Granville\, OH
UID:e.180.14786
SEQUENCE:3
DTSTAMP:20260421T140637Z
URL:https://business.granvilleoh.com/events/details/hotlicks-bluesfest-brought-to-you-by-noca-14786
END:VEVENT

END:VCALENDAR
