BEGIN:VCALENDAR
VERSION:2.0
PRODID:-//ChamberMaster//Event Calendar 2.0//EN
METHOD:PUBLISH
X-PUBLISHED-TTL:P3D
REFRESH-INTERVAL:P3D
CALSCALE:GREGORIAN
BEGIN:VEVENT
DTSTART:20200529T170000Z
DTEND:20200529T190000Z
X-MICROSOFT-CDO-ALLDAYEVENT:FALSE
SUMMARY:Imagine Your Story Summer Kick-Off on Instagram Live
DESCRIPTION:Friday\, May 29\; 1 3pm Instagram Live @gpl_kids Pop in anytime during this two-hour program where Children's staff will talk about summer programming and answer questions.
X-ALT-DESC;FMTTYPE=text/html:Friday\, May 29\; 1&ndash\;3pm Instagram Live @gpl_kids Pop in anytime during this two-hour program where Children&rsquo\;s staff will talk about summer programming and answer questions.
LOCATION:GPL_Kids on Instagram
UID:e.180.14496
SEQUENCE:3
DTSTAMP:20260422T113743Z
URL:https://business.granvilleoh.com/events/details/imagine-your-story-summer-kick-off-on-instagram-live-14496
END:VEVENT

END:VCALENDAR
