BEGIN:VCALENDAR
VERSION:2.0
PRODID:-//ChamberMaster//Event Calendar 2.0//EN
METHOD:PUBLISH
X-PUBLISHED-TTL:P3D
REFRESH-INTERVAL:P3D
CALSCALE:GREGORIAN
BEGIN:VEVENT
DTSTART:20200528T170000Z
DTEND:20200528T190000Z
X-MICROSOFT-CDO-ALLDAYEVENT:FALSE
SUMMARY:Imagine Your Story- Summer Kick Off via Zoom
DESCRIPTION:Register at GranvilleLibrary.org to receive login the day of the program. Pop in anytime during these two open-house events to learn about this summer's reading challenges for babies\, toddlers and preschoolers\, and children in rising Grades K to 6. Children's staff will be available to answer questions about Beanstack\, the online challenge-tracking app.
X-ALT-DESC;FMTTYPE=text/html:Register at GranvilleLibrary.org to receive login the day of the program. Pop in anytime during these two open-house events to learn about this summer&rsquo\;s reading challenges for babies\, toddlers and preschoolers\, and children in rising Grades K to 6. Children&rsquo\;s staff will be available to answer questions about Beanstack\, the online challenge-tracking app.
LOCATION:Online- Zoom.us Granville Public Library
UID:e.180.14495
SEQUENCE:3
DTSTAMP:20260422T113839Z
URL:https://business.granvilleoh.com/events/details/imagine-your-story-summer-kick-off-via-zoom-14495
END:VEVENT

END:VCALENDAR
