BEGIN:VCALENDAR
VERSION:2.0
PRODID:-//ChamberMaster//Event Calendar 2.0//EN
METHOD:PUBLISH
X-PUBLISHED-TTL:P3D
REFRESH-INTERVAL:P3D
CALSCALE:GREGORIAN
BEGIN:VEVENT
DTSTART:20211020T203000Z
DTEND:20211020T210000Z
X-MICROSOFT-CDO-ALLDAYEVENT:FALSE
SUMMARY:Improv Games at the Folly
DESCRIPTION:Act and react with other young actors in fun improv games. Grades 4 to 6 Robbins Hunter\, behind the museum in The Garden Folly. Cancelled with rain. Register at GranvilleLibrary.org/calendar/month
X-ALT-DESC;FMTTYPE=text/html:Act and react with other young actors in fun improv games. Grades 4 to 6 Robbins Hunter\, behind the museum in The Garden Folly. Cancelled with rain. Register at GranvilleLibrary.org/calendar/month
LOCATION:Robbins Hunter Museum Garden Folly
UID:e.180.16093
SEQUENCE:3
DTSTAMP:20260421T125847Z
URL:https://business.granvilleoh.com/events/details/improv-games-at-the-folly-10-20-2021-16093
END:VEVENT

END:VCALENDAR
