BEGIN:VCALENDAR
VERSION:2.0
PRODID:-//ChamberMaster//Event Calendar 2.0//EN
METHOD:PUBLISH
X-PUBLISHED-TTL:P3D
REFRESH-INTERVAL:P3D
CALSCALE:GREGORIAN
BEGIN:VEVENT
DTSTART:20200120T180000Z
DTEND:20200120T190000Z
X-MICROSOFT-CDO-ALLDAYEVENT:FALSE
SUMMARY:Indoor Snowball Fight
DESCRIPTION:No need to bundle up for this indoor snowball fight. Grades K to 6
X-ALT-DESC;FMTTYPE=text/html:No need to bundle up for this indoor snowball fight. Grades K to 6
LOCATION:Granville Public Library
UID:e.180.14023
SEQUENCE:3
DTSTAMP:20260422T171310Z
URL:https://business.granvilleoh.com/events/details/indoor-snowball-fight-01-20-2020-14023
END:VEVENT

END:VCALENDAR
